BEGIN:VCALENDAR
VERSION:2.0
PRODID:-//CADR Brzegi - ECPv6.15.20//NONSGML v1.0//EN
CALSCALE:GREGORIAN
METHOD:PUBLISH
X-ORIGINAL-URL:https://cadr.redemptor.pl/brzegi
X-WR-CALDESC:Wydarzenia dla CADR Brzegi
REFRESH-INTERVAL;VALUE=DURATION:PT1H
X-Robots-Tag:noindex
X-PUBLISHED-TTL:PT1H
BEGIN:VTIMEZONE
TZID:Europe/Warsaw
BEGIN:DAYLIGHT
TZOFFSETFROM:+0100
TZOFFSETTO:+0200
TZNAME:CEST
DTSTART:20240331T010000
END:DAYLIGHT
BEGIN:STANDARD
TZOFFSETFROM:+0200
TZOFFSETTO:+0100
TZNAME:CET
DTSTART:20241027T010000
END:STANDARD
BEGIN:DAYLIGHT
TZOFFSETFROM:+0100
TZOFFSETTO:+0200
TZNAME:CEST
DTSTART:20250330T010000
END:DAYLIGHT
BEGIN:STANDARD
TZOFFSETFROM:+0200
TZOFFSETTO:+0100
TZNAME:CET
DTSTART:20251026T010000
END:STANDARD
BEGIN:DAYLIGHT
TZOFFSETFROM:+0100
TZOFFSETTO:+0200
TZNAME:CEST
DTSTART:20260329T010000
END:DAYLIGHT
BEGIN:STANDARD
TZOFFSETFROM:+0200
TZOFFSETTO:+0100
TZNAME:CET
DTSTART:20261025T010000
END:STANDARD
END:VTIMEZONE
BEGIN:VEVENT
DTSTART;TZID=Europe/Warsaw:20250726T140000
DTEND;TZID=Europe/Warsaw:20250801T100000
DTSTAMP:20260424T174137
CREATED:20250131T230032Z
LAST-MODIFIED:20250204T162514Z
UID:1912-1753538400-1754042400@cadr.redemptor.pl
SUMMARY:HISTORIE KOBIET STAREGO TESTAMENTU. Rekolekcje dla kobiet\, turnus 2
DESCRIPTION:Poznamy historie kilku Niewiast Starego Testamentu\, które zaufały Panu Bogu! \n\n\n\nA jak jest Twoja relacja z Panem Bogiem? \n\n\n\nUfasz? \n\n\n\nWyrusz z nami w góry\, aby doświadczyć Bożej miłości i nieustającej opieki Matki Bożej. \n\n\n\nCzas na Rynias! \n\n\n\nOdkryj swoje talenty\, możliwości\, bądź inspiracją dla innych kobiet. \n\n\n\nZapraszamy z radością! \n\n\n\n \n\n\n\nRekolekcje będą obejmowały: \n\n\n\n* część duchową (codzienna Msza Św.\, Adoracja\, wspólna modlitwa\, konferencje …)\, \n\n\n\n* część warsztatową ( taniec uwielbienia\, artystyczne zajęcia\, pieczenie ciasteczek …).  \n\n\n\nRamowy plan dnia: \n\n\n\n7.30-7.50 – Poranny zestaw ćwiczeń na uśmiech:) \n\n\n\n8:00 – Wspólna modlitwa  \n\n\n\n8:30 – Śniadanie \n\n\n\n10:00 – Konferencja tematyczna + dzielenie w grupkach \n\n\n\n12:00 – Eucharystia \n\n\n\n13:00 – Obiad \n\n\n\n15:00 – Koronka do Miłosierdzia \n\n\n\nWarsztaty do wyboru: \n\n\n\n16:00-17:30 – warsztaty: taneczne\, psychologiczne\, artystyczne\, zioła… \n\n\n\n18:00 – Kolacja \n\n\n\n19:00 – Wspólna modlitwa \n\n\n\n20:00 – Rozmowy przy herbacie\, kawie i dobrych ciasteczkach… \n\n\n\n \n\n\n\nRekolekcje trwają: od 26 lipca do 1 sierpnia 2025 \n\n\n\nProwadzący rekolekcje:- o. Andrzej Kowalski oraz Wspólnota „Dzielne Niewiasty” \n\n\n\n \n\n\n\nOfiara za pobyt: sześć pełnych dni – 900\,0 zł (obejmuje zakwaterowanie i trzy posiłki dziennie: śniadanie\, obiad bez deseru\, kolacja) \n\n\n\nOpłatę za pobyt na rekolekcjach przyjmujemy na miejscu wyłącznie w formie gotówki. Można też przelać ją na nasze konto\, podane poniżej\, pamiętając\, że powyższą transakcję należy zrealizować przed przyjazdem na rekolekcje. \n\n\n\n \n\n\n\nWażne informacje dla uczestników: Ośrodek rekolekcyjny „Matki Bożej z Gór”znajduje się na polanie Rynias\, u podnóża Tatr i granicy ze Słowacją. Administracyjnie jest to część wsi Brzegi (koło Bukowiny Tatrzańskiej). \n\n\n\nZ drogi biegnącej przez Brzegi skręcamy w „ul. Rynias”. Jest to trzykilometrowa leśna\, kamienista\, górska droga. W miesiącach letnich zasadniczo jest możliwy dojazd każdym rodzajem samochodu. Jeśli samochód ma zbyt mały prześwit lub jest mocno obciążony lepiej zostawić go w brzegach lub w Bukowinie. W takim przypadku prosimy o wcześniejszy kontakt z ośrodkiem w celu umówienia się na podwózkę. W razie korzystania z komunikacji zbiorowej\, prosimy również o wcześniejszy kontakt w celu dowiezienia do ośrodka. Więcej o sposobie dojazdu do ośrodka w zakładce: „Dojazd” na stronie: https://cadr.redemptor.pl/brzegi/dojazd/. \n\n\n\nProsimy o przywiezienie ze sobą: \n\n\n\n– ręcznik\, \n\n\n\n– kapcie (po domach i kaplicy poruszamy się tylko w kapciach)\, \n\n\n\n– ciepłe okrycia\, najlepiej sweter lub polar (nawet w miesiącach letnich w górach noce mogą być dość chłodne)\, \n\n\n\n– płaszcz przeciwdeszczowy\, \n\n\n\n– obuwie dostosowanego do terenów górskich (jest możliwość wyjścia nawet w wysokie góry). \n\n\n\nNa Ryniasie nie ma żadnych sklepów\, apteki. Trzeba o tym pamiętać wybierając się tu na dłuższy czas. Oczywiście w nagłych wypadkach\, kontakt z „cywilizacją” jest możliwy w każdym czasie. \n\n\n\nNie ma potrzeby: przywożenia bielizny pościelowej ani śpiworów. Na miejscu\, uczestnicy mają również do dyspozycji Pismo Święte oraz Liturgię Godzin (Brewiarz). \n\n\n\n \n\n\n\nZapisy na rekolekcje: Podstawową formą zapisów na rekolekcje jest wypełnienie formularza zgłoszeń umieszczonego poniżej oraz wpłata zaliczki na konto ośrodka w wysokości 50 zł. Na wskazany w formularzu zgłoszeń adres e-mail zostanie wysłana informacja potwierdzająca przyjęcie na rekolekcje. \n\n\n\nW przypadku rezygnacji z udziału w rekolekcjach\, prosimy o kontakt na poniżej podany numer telefonu lub adres mailowy ośrodka: \n\n\n\nKontakt z ośrodkiem „Matki Bożej z Gór”: \n\n\n\nOśrodek Rekolekcyjny Prowincji Warszawskiej Zgromadzenia Najświętszego Odkupiciela \n\n\n\nBrzegi-Rynias 2\,3A \n\n\n\n34-532 Jurgów \n\n\n\ntel. kom:. 728 705 470 lub 572 136 887 \n\n\n\ne-mail: brzeryn23a@gmail.com \n\n\n\nKonto bankowe: \n\n\n\nBank Pekao SA\, Oddział w Krakowie; nr rachunku: 55 1240 4445 1111 0010 5041 8483 \n\n\n\nKlauzula RODO>>> \n\n\n\nPrzejdź do formularza zgłoszeń>>> \n\n\n\n \n\n\n\n \n\n\n\n\n\n\n\n\nUdostępnij:Udostępnij\n				Share on Facebook (Otwiera się w nowym oknie)\n				Facebook\n			\n				Share on X (Otwiera się w nowym oknie)\n				X
URL:https://cadr.redemptor.pl/brzegi/wydarzenia/sladami-kobiet-starego-testamentu-rekolekcje-dla-kobiet-turnus-2/
CATEGORIES:Rekolekcje
END:VEVENT
END:VCALENDAR