BEGIN:VCALENDAR
VERSION:2.0
PRODID:-//CADR Brzegi - ECPv6.15.20//NONSGML v1.0//EN
CALSCALE:GREGORIAN
METHOD:PUBLISH
X-WR-CALNAME:CADR Brzegi
X-ORIGINAL-URL:https://cadr.redemptor.pl/brzegi
X-WR-CALDESC:Wydarzenia dla CADR Brzegi
REFRESH-INTERVAL;VALUE=DURATION:PT1H
X-Robots-Tag:noindex
X-PUBLISHED-TTL:PT1H
BEGIN:VTIMEZONE
TZID:Europe/Warsaw
BEGIN:DAYLIGHT
TZOFFSETFROM:+0100
TZOFFSETTO:+0200
TZNAME:CEST
DTSTART:20250330T010000
END:DAYLIGHT
BEGIN:STANDARD
TZOFFSETFROM:+0200
TZOFFSETTO:+0100
TZNAME:CET
DTSTART:20251026T010000
END:STANDARD
BEGIN:DAYLIGHT
TZOFFSETFROM:+0100
TZOFFSETTO:+0200
TZNAME:CEST
DTSTART:20260329T010000
END:DAYLIGHT
BEGIN:STANDARD
TZOFFSETFROM:+0200
TZOFFSETTO:+0100
TZNAME:CET
DTSTART:20261025T010000
END:STANDARD
BEGIN:DAYLIGHT
TZOFFSETFROM:+0100
TZOFFSETTO:+0200
TZNAME:CEST
DTSTART:20270328T010000
END:DAYLIGHT
BEGIN:STANDARD
TZOFFSETFROM:+0200
TZOFFSETTO:+0100
TZNAME:CET
DTSTART:20271031T010000
END:STANDARD
END:VTIMEZONE
BEGIN:VEVENT
DTSTART;TZID=Europe/Warsaw:20260604T180000
DTEND;TZID=Europe/Warsaw:20260607T130000
DTSTAMP:20260419T232536
CREATED:20251218T083150Z
LAST-MODIFIED:20260119T201040Z
UID:2101-1780596000-1780837200@cadr.redemptor.pl
SUMMARY:Ja i Ojciec jedno jesteśmy
DESCRIPTION:Warsztaty rekolekcyjne o relacji ojca i syna \n\n\n\n\n\n\n\n\n\n\n\nChcesz pracować nad relacją ze swoim synem? Nie rozumiesz swojego ojca? Szukasz drogi porozumienia? Zastanawiasz sie dlaczego tylu porzuca wiare? \n\n\n\nWarsztaty rekolekcyjne są skierowane do mężczyzn ojca i syna. W ich trakcie\, z pomocą postaci biblijnych\, przejdziesz osobista drogę wiary\, w czasie której na nowo zmierzysz sic ze swoimi słabościami\, odkryjesz obecność Boga w twoim życiu razem z Nim spojrzysz na swoje relacje\, zwłaszcza ze swoim ojcem synem. \n\n\n\nWarsztaty będą prowadzone dwutorowo: w grupie wspólnej oraz oddzielnie dla ojców i dla synów. W planie codzienna Msza św.\, czas pracy grupowej i indywidualnej oraz dobrze rozumiana integracja. \n\n\n\nProwadzenie: \n\n\n\nks. Karol Mazurek – kapłan Archidiecezji lubelskiej i duszpasterz akademicki\, pilot-podróżnik\, pasjonat kuchni włoskiej\, teolog fundamentalny\, ale nie fundamentalista\, certyfikowany animator Bibliodramy. \n\n\n\nGrzegorz Urbańczyk – mąż ojciec\, strażak\, logowychowawca. zaangażowany w różnorodne formy duszpasterstwa małżeństw i rodzin.  Absolwent Szkoły Animatorów Bibliodramy Theotokos w Gliwicach. \n\n\n\nRozpoczęcie: \n\n\n\n4 czerwca (czwartek) kolacją o godz. 18.00 \n\n\n\nZakończenie: \n\n\n\n7 czerwca (niedziela) obiadem ok. 13.00  \n\n\n\nMiejsce: \n\n\n\nOśrodek Rekolekcyjny Matki Bożej zGór (Brzegi-Rynias 2) \n\n\n\nZe względów organizacyjnych prosimy o udział w całych warsztatach. \n\n\n\nCena 850 zł / os. (1700 zł /ojciec i syn) zawiera 3 noclegi w pokojach 2-os\, z łazienkami (ojciec z synem)\, 3 posiłki dziennie\, barek kawowy\, materiały warsztatowe. \n\n\n\nZgłoszenia do 10 kwietnia 2026 roku poprzez poniższy formularz: \n\n\n\nFormularz zgłoszeniowy>> \n\n\n\n\nUdostępnij:Udostępnij\n				Share on Facebook (Otwiera się w nowym oknie)\n				Facebook\n			\n				Share on X (Otwiera się w nowym oknie)\n				X
URL:https://cadr.redemptor.pl/brzegi/wydarzenia/ja-i-ojciec-jedno-jestesmy/
LOCATION:Brzegi – Rynias\, Rynias 2\, Brzegi\, Małopolskie\, 34-532\, Polska
CATEGORIES:Rekolekcje,Warsztaty
END:VEVENT
END:VCALENDAR