BEGIN:VCALENDAR
VERSION:2.0
PRODID:-//CADR Brzegi - ECPv6.15.20//NONSGML v1.0//EN
CALSCALE:GREGORIAN
METHOD:PUBLISH
X-WR-CALNAME:CADR Brzegi
X-ORIGINAL-URL:https://cadr.redemptor.pl/brzegi
X-WR-CALDESC:Wydarzenia dla CADR Brzegi
REFRESH-INTERVAL;VALUE=DURATION:PT1H
X-Robots-Tag:noindex
X-PUBLISHED-TTL:PT1H
BEGIN:VTIMEZONE
TZID:Europe/Warsaw
BEGIN:DAYLIGHT
TZOFFSETFROM:+0100
TZOFFSETTO:+0200
TZNAME:CEST
DTSTART:20250330T010000
END:DAYLIGHT
BEGIN:STANDARD
TZOFFSETFROM:+0200
TZOFFSETTO:+0100
TZNAME:CET
DTSTART:20251026T010000
END:STANDARD
BEGIN:DAYLIGHT
TZOFFSETFROM:+0100
TZOFFSETTO:+0200
TZNAME:CEST
DTSTART:20260329T010000
END:DAYLIGHT
BEGIN:STANDARD
TZOFFSETFROM:+0200
TZOFFSETTO:+0100
TZNAME:CET
DTSTART:20261025T010000
END:STANDARD
BEGIN:DAYLIGHT
TZOFFSETFROM:+0100
TZOFFSETTO:+0200
TZNAME:CEST
DTSTART:20270328T010000
END:DAYLIGHT
BEGIN:STANDARD
TZOFFSETFROM:+0200
TZOFFSETTO:+0100
TZNAME:CET
DTSTART:20271031T010000
END:STANDARD
END:VTIMEZONE
BEGIN:VEVENT
DTSTART;TZID=Europe/Warsaw:20260704T140000
DTEND;TZID=Europe/Warsaw:20260710T100000
DTSTAMP:20260419T232644
CREATED:20260216T153154Z
LAST-MODIFIED:20260216T153639Z
UID:2221-1783173600-1783677600@cadr.redemptor.pl
SUMMARY:By wiara była bliżej twojego życia. Codzienność inaczej
DESCRIPTION:Zapraszamy na rekolekcje w Brzegach na Rynias\, prowadzone w rytmie modlitwy i refleksji nad codziennością. To czas\, aby zatrzymać się\, odetchnąć i zobaczyć swoje życie i codzienność w świetle Ewangelii. \n\n\n\nW programie: \n\n\n\n– adoracja w ciszy \n\n\n\n– codzienna Eucharystia \n\n\n\n– dwie konferencje dziennie \n\n\n\n– czas na lekturę\, wyjścia w góry (jeden dzień) i rekreację \n\n\n\n– spotkania w grupach i dzielenie Słowem \n\n\n\n \n\n\n\nProwadzenie: o. Andrzej Szorc – redemptorysta \n\n\n\n \n\n\n\nKoszt pobytu na rekolekcjach wynosi: 160\,0 zł za dzień pobytu\, z pełnym wyżywieniem (trzy posiłki). \n\n\n\nOpłatę za pobyt na rekolekcjach przyjmujemy na miejscu wyłącznie w formie gotówki. Można też przelać ją na nasze konto\, podane poniżej\, pamiętając\, że powyższą transakcję należy zrealizować przed przyjazdem na rekolekcje. \n\n\n\nWażne informacje dla uczestników: Ośrodek rekolekcyjny „Matki Bożej z Gór”znajduje się na polanie Rynias\, u podnóża Tatr i granicy ze Słowacją. Administracyjnie jest to część wsi Brzegi (koło Bukowiny Tatrzańskiej). \n\n\n\nZ drogi biegnącej przez Brzegi skręcamy w „ul. Rynias”. Jest to trzykilometrowa leśna\, szutrowa droga. W miesiącach letnich zasadniczo jest możliwy dojazd każdym rodzajem samochodu. Jeśli samochód ma zbyt mały prześwit lub jest mocno obciążony lepiej zostawić go w brzegach lub w Bukowinie. W takim przypadku prosimy o wcześniejszy kontakt z ośrodkiem w celu umówienia się na podwózkę. W razie korzystania z komunikacji zbiorowej\, prosimy również o wcześniejszy kontakt w celu dowiezienia do ośrodka. \n\n\n\nProsimy o przywiezienie ze sobą: \n\n\n\n– ręczniki\, \n\n\n\n– obuwie domowe\, kapcie\, pantofle (po domach i kaplicy poruszamy się tylko w tym obuwiu)\, \n\n\n\n– ciepłe okrycia\, najlepiej sweter lub polar (nawet w miesiącach letnich w górach noce mogą być dość chłodne)\, \n\n\n\n– płaszcz przeciwdeszczowy\, \n\n\n\n– obuwie dostosowanego do terenów górskich (jest możliwość wyjścia nawet w wysokie góry). \n\n\n\nNa Ryniasie nie ma żadnych sklepów\, apteki. Trzeba o tym pamiętać wybierając się tu na dłuższy czas. Oczywiście w nagłych wypadkach\, kontakt z „cywilizacją” jest możliwy w każdym czasie. \n\n\n\nNie ma potrzeby: przywożenia bielizny pościelowej ani śpiworów. Na miejscu\, uczestnicy mają również do dyspozycji Pismo Święte oraz Liturgię Godzin (Brewiarz). \n\n\n\nInformacja o rezerwacji \n\n\n\nZgłoszenie udziału w rekolekcjach następuje poprzez wypełnienie formularza zgłoszeniowego\, znajdującego się poniżej. \n\n\n\nWarunkiem rezerwacji miejsca jest wpłata zaliczki na konto ośrodka podane poniżej\, w kwocie 100 zł\, i w terminie nie później jak 30 dni przed turnusem rekolekcyjnym. W przypadku zgłoszeń w czasie krótszym niż 30 dni przed rozpoczęciem rekolekcji\, zaliczkę należy wpłacić niezwłocznie. \n\n\n\nBrak wpłaty zaliczki w wyznaczonym terminie oznacza anulowanie rezerwacji. \n\n\n\nW przypadku rezygnacji z udziału w rekolekcjach\, prosimy o kontakt na poniżej podany numer telefonu lub adres mailowy ośrodka: \n\n\n\nKontakt z ośrodkiem „Matki Bożej z Gór”: \n\n\n\nOśrodek Rekolekcyjny Prowincji Warszawskiej Zgromadzenia Najświętszego Odkupiciela \n\n\n\nBrzegi-Rynias 2\,3A \n\n\n\n34-532 Jurgów \n\n\n\ntel. kom:. 728 705 470 lub 572 136 887 \n\n\n\ne-mail: brzeryn23a@gmail.com \n\n\n\n\nhttps://cadr.redemptor.pl/brzegi\n\n\n\n\nKonto bankowe: \n\n\n\nBank Pekao SA\, Oddział w Krakowie; nr rachunku: 55 1240 4445 1111 0010 5041 8483 \n\n\n\nPrzejdź do formularza zgłoszeń>>> \n\n\n\n\n\n\nUdostępnij:Udostępnij\n				Share on Facebook (Otwiera się w nowym oknie)\n				Facebook\n			\n				Share on X (Otwiera się w nowym oknie)\n				X
URL:https://cadr.redemptor.pl/brzegi/wydarzenia/by-wiara-byla-blizej-twojego-zycia-codziennosc-inaczej/
LOCATION:Brzegi Rynias\, Rynias 2\, Brzegi
CATEGORIES:Rekolekcje
ATTACH;FMTTYPE=image/jpeg:https://cadr.redemptor.pl/brzegi/wp-content/uploads/sites/3/2026/02/Modlitwa.jpg
END:VEVENT
END:VCALENDAR