BEGIN:VCALENDAR
VERSION:2.0
PRODID:-//CADR Brzegi - ECPv6.15.20//NONSGML v1.0//EN
CALSCALE:GREGORIAN
METHOD:PUBLISH
X-ORIGINAL-URL:https://cadr.redemptor.pl/brzegi
X-WR-CALDESC:Wydarzenia dla CADR Brzegi
REFRESH-INTERVAL;VALUE=DURATION:PT1H
X-Robots-Tag:noindex
X-PUBLISHED-TTL:PT1H
BEGIN:VTIMEZONE
TZID:Europe/Warsaw
BEGIN:DAYLIGHT
TZOFFSETFROM:+0100
TZOFFSETTO:+0200
TZNAME:CEST
DTSTART:20250330T010000
END:DAYLIGHT
BEGIN:STANDARD
TZOFFSETFROM:+0200
TZOFFSETTO:+0100
TZNAME:CET
DTSTART:20251026T010000
END:STANDARD
BEGIN:DAYLIGHT
TZOFFSETFROM:+0100
TZOFFSETTO:+0200
TZNAME:CEST
DTSTART:20260329T010000
END:DAYLIGHT
BEGIN:STANDARD
TZOFFSETFROM:+0200
TZOFFSETTO:+0100
TZNAME:CET
DTSTART:20261025T010000
END:STANDARD
BEGIN:DAYLIGHT
TZOFFSETFROM:+0100
TZOFFSETTO:+0200
TZNAME:CEST
DTSTART:20270328T010000
END:DAYLIGHT
BEGIN:STANDARD
TZOFFSETFROM:+0200
TZOFFSETTO:+0100
TZNAME:CET
DTSTART:20271031T010000
END:STANDARD
END:VTIMEZONE
BEGIN:VEVENT
DTSTART;TZID=Europe/Warsaw:20260725T140000
DTEND;TZID=Europe/Warsaw:20260731T100000
DTSTAMP:20260420T014641
CREATED:20260128T205818Z
LAST-MODIFIED:20260129T074043Z
UID:2173-1784988000-1785492000@cadr.redemptor.pl
SUMMARY:Kim jest Dzielna Niewiasta?
DESCRIPTION:REKOLEKCJE dla KOBIET \n\n\n\n\n\n\n\n„Niewiastę dzielną kto znajdzie? Jej wartość przewyższa perły” /Prz 31\, 10/ \n\n\n\nKim jest Dzielna Niewiasta? Jaka to kobieta? Czy Ty nią Jesteś? Może nigdy się nad tym nie zastanawiałaś? \n\n\n\nLetnie rekolekcje w górach to zaproszenie by – jak Dzielna Niewiasta z Księgi Przysłów 31\, 10 -31 – odnaleźć ciszę serca i mądrość\, która płynie z zaufania Panu Bogu. \n\n\n\nUFASZ? \n\n\n\nWyrusz z nami w góry\, aby doświadczyć Bożej miłości i nieustającej opieki Matki Bożej. \n\n\n\nOdkryj swoje talenty\, możliwości\, bądź inspiracją dla innych kobiet. \n\n\n\nKażda z nas jest ważna! Bycie w kobiecym gronie daje nam przestrzeń do:  wspólnych rozmów\, dzielenia się doświadczeniem\, słuchania\, wsparcia… \n\n\n\nTo zaproszenie do życia pełnią pokoju\, radości i zaufania Bogu! \n\n\n\nCzas na Rynias! Zachwycisz się tym miejscem! \n\n\n\nNie odkładaj decyzji na później! \n\n\n\nZapraszamy z radością! \n\n\n\n \n\n\n\nProwadzący rekolekcje: \n\n\n\no. Paweł Drobot CSsR i Wspólnota „Dzielne Niewiasty” \n\n\n\nRekolekcje trwają: od 25 do 31 lipca 2026 r. \n\n\n\n \n\n\n\nRekolekcje będą obejmowały: \n\n\n\n* część duchową (codzienna Msza Św.\, Adoracja\, wspólna modlitwa\, konferencje)\, \n\n\n\n* część warsztatową ( np. taniec uwielbienia\, artystyczne zajęcia\, psychologiczne)      \n\n\n\nRamowy plan dnia: \n\n\n\n\n7:30-7:50 Poranny zestaw ćwiczeń na uśmiech\n\n\n\n8:00 Wspólna modlitwa (brewiarz) \n\n\n\n8:30 Śniadanie\n\n\n\n10:00 Konferencja tematyczna + dzielenie w grupkach\n\n\n\n12:00 Eucharystia\n\n\n\n13:00 Obiad\n\n\n\n15:00 Koronka do Miłosierdzia\n\n\n\n\nWarsztaty: \n\n\n\n\n16:00-17:30 warsztaty: taneczne\, psychologiczne\, wizażu\, artystyczne\, zioła…\n\n\n\n18:00 Kolacja\n\n\n\n19:00 Wspólna modlitwa\n\n\n\n20:00 Rozmowy przy herbacie\, kawie  i dobrych ciasteczkach …\n\n\n\n21:00-22:00 Adoracja Najświętszego Sakramentu\n\n\n\n\nProsimy – przywieźć z sobą ulubioną sukienkę czy spódnice\, aby uwielbiać Pana Boga tańcem\, śpiewem\, słowem. \n\n\n\nPropozycja dla chętnych pań – wędrówka górska/prosimy zabrać odpowiednie obuwie i ubranie! \n\n\n\n \n\n\n\nKoszt: 160\,0 zł za dzień pobytu (czas rekolekcji liczymy jako 6 pełnych dni) z pełnym wyżywieniem (trzy posiłki). \n\n\n\nOpłatę za pobyt na rekolekcjach przyjmujemy na miejscu wyłącznie w formie gotówki. Można też przelać ją na nasze konto\, podane poniżej\, pamiętając\, że powyższą transakcję należy zrealizować przed przyjazdem na rekolekcje. \n\n\n\n \n\n\n\nWażne informacje dla uczestników: Ośrodek rekolekcyjny „Matki Bożej z Gór”znajduje się na polanie Rynias\, u podnóża Tatr i granicy ze Słowacją. Administracyjnie jest to część wsi Brzegi (koło Bukowiny Tatrzańskiej). \n\n\n\nZ drogi biegnącej przez Brzegi skręcamy w „ul. Rynias”. Jest to trzykilometrowa leśna\, szutrowa droga. W miesiącach letnich zasadniczo jest możliwy dojazd każdym rodzajem samochodu. Jeśli samochód ma zbyt mały prześwit lub jest mocno obciążony lepiej zostawić go w brzegach lub w Bukowinie. W takim przypadku prosimy o wcześniejszy kontakt z ośrodkiem w celu umówienia się na podwózkę. W razie korzystania z komunikacji zbiorowej\, prosimy również o wcześniejszy kontakt w celu dowiezienia do ośrodka.  \n\n\n\n \n\n\n\nProsimy o przywiezienie ze sobą: \n\n\n\n– ręczniki\, \n\n\n\n– obuwie domowe\, kapcie\, pantofle\, itp. (po domach i kaplicy poruszamy się tylko w tym obuwiu)\, \n\n\n\n– ciepłe okrycia\, najlepiej sweter lub polar (nawet w miesiącach letnich w górach noce mogą być dość chłodne)\, \n\n\n\n– płaszcz przeciwdeszczowy\, \n\n\n\n– obuwie dostosowanego do terenów górskich (jest możliwość wyjścia nawet w wysokie góry). \n\n\n\nNa Ryniasie nie ma żadnych sklepów\, apteki. Trzeba o tym pamiętać wybierając się tu na dłuższy czas. Oczywiście w nagłych wypadkach\, kontakt z „cywilizacją” jest możliwy w każdym czasie. \n\n\n\nNie ma potrzeby: przywożenia bielizny pościelowej ani śpiworów. Na miejscu\, uczestnicy mają również do dyspozycji Pismo Święte oraz Liturgię Godzin (Brewiarz). \n\n\n\n \n\n\n\nInformacja o rezerwacji \n\n\n\nZgłoszenie udziału w rekolekcjach następuje poprzez wypełnienie formularza zgłoszeniowego\, znajdującego się poniżej. \n\n\n\nWarunkiem rezerwacji miejsca jest wpłata zaliczki na konto ośrodka podane poniżej\, w kwocie 100 zł\, i w terminie nie później jak 30 dni przed turnusem rekolekcyjnym. W przypadku zgłoszeń w czasie krótszym niż 30 dni przed rozpoczęciem rekolekcji\, zaliczkę należy wpłacić niezwłocznie. \n\n\n\nBrak wpłaty zaliczki w wyznaczonym terminie oznacza anulowanie rezerwacji. \n\n\n\nW przypadku rezygnacji z udziału w rekolekcjach\, prosimy o kontakt na poniżej podany numer telefonu lub adres mailowy ośrodka: \n\n\n\nKontakt z ośrodkiem „Matki Bożej z Gór”: \n\n\n\nOśrodek Rekolekcyjny Prowincji Warszawskiej Zgromadzenia Najświętszego Odkupiciela \n\n\n\nBrzegi-Rynias 2\,3A \n\n\n\n34-532 Jurgów \n\n\n\ntel. kom:. 728 705 470 lub 572 136 887 \n\n\n\ne-mail: brzeryn23a@gmail.com \n\n\n\n\nhttps://cadr.redemptor.pl/brzegi\n\n\n\n\nKonto bankowe: \n\n\n\nBank Pekao SA\, Oddział w Krakowie; nr rachunku: 55 1240 4445 1111 0010 5041 8483 \n\n\n\nPrzejdź do formularza zgłoszeń>>> \n\n\n\n\n\n\n\n\nUdostępnij:Udostępnij\n				Share on Facebook (Otwiera się w nowym oknie)\n				Facebook\n			\n				Share on X (Otwiera się w nowym oknie)\n				X
URL:https://cadr.redemptor.pl/brzegi/wydarzenia/kim-jest-dzielna-niewiasta-2/
LOCATION:Brzegi-Rynias\, Rynias 2\, Brzegi
CATEGORIES:Rekolekcje,Warsztaty
ATTACH;FMTTYPE=image/jpeg:https://cadr.redemptor.pl/brzegi/wp-content/uploads/sites/3/2026/01/9.jpg
END:VEVENT
END:VCALENDAR